BEGIN:VCALENDAR
VERSION:2.0
PRODID:-//Wishes &amp; More® - ECPv6.15.20//NONSGML v1.0//EN
CALSCALE:GREGORIAN
METHOD:PUBLISH
X-WR-CALNAME:Wishes &amp; More®
X-ORIGINAL-URL:https://wishesandmore.org
X-WR-CALDESC:Events for Wishes &amp; More®
REFRESH-INTERVAL;VALUE=DURATION:PT1H
X-Robots-Tag:noindex
X-PUBLISHED-TTL:PT1H
BEGIN:VTIMEZONE
TZID:America/Chicago
BEGIN:DAYLIGHT
TZOFFSETFROM:-0600
TZOFFSETTO:-0500
TZNAME:CDT
DTSTART:20240310T080000
END:DAYLIGHT
BEGIN:STANDARD
TZOFFSETFROM:-0500
TZOFFSETTO:-0600
TZNAME:CST
DTSTART:20241103T070000
END:STANDARD
BEGIN:DAYLIGHT
TZOFFSETFROM:-0600
TZOFFSETTO:-0500
TZNAME:CDT
DTSTART:20250309T080000
END:DAYLIGHT
BEGIN:STANDARD
TZOFFSETFROM:-0500
TZOFFSETTO:-0600
TZNAME:CST
DTSTART:20251102T070000
END:STANDARD
BEGIN:DAYLIGHT
TZOFFSETFROM:-0600
TZOFFSETTO:-0500
TZNAME:CDT
DTSTART:20260308T080000
END:DAYLIGHT
BEGIN:STANDARD
TZOFFSETFROM:-0500
TZOFFSETTO:-0600
TZNAME:CST
DTSTART:20261101T070000
END:STANDARD
END:VTIMEZONE
BEGIN:VEVENT
DTSTART;TZID=America/Chicago:20251002T080000
DTEND;TZID=America/Chicago:20251002T170000
DTSTAMP:20260425T063110
CREATED:20251002T190757Z
LAST-MODIFIED:20251002T191815Z
UID:31401-1759392000-1759424400@wishesandmore.org
SUMMARY:Wash With a Cause at Tommy's Express Car Wash
DESCRIPTION:Join us in making dreams come true! From October 3rd to 12th\, Tommy’s Express Car Was is hosting a special fundraiser for Wishes & More!\n\n\nHere’s how you can help: Purchase a $5 wash bag\, and 100% of the proceeds will go directly to Wishes & More. Plus\, a percentage of Tommy’s wash revenue during this period will also be donated. It’s a simple way to make a big impact!\n\n\nTogether\, we can bring smiles and hope to those who need it most. Let’s wash for a cause and make every wish count!
URL:https://wishesandmore.org/event/wash-with-a-cause-at-tommys-express-car-wash/
LOCATION:2525 Mounds View Blvd.\, Mounds View\, MN\, 2525 Mounds View Blvd.\, Mounds View\, MN\, 55112\, United States
ATTACH;FMTTYPE=image/png:https://wishesandmore.org/wp-content/uploads/2025/10/Red-Bold-Car-Wash-Facebook-Post.png
END:VEVENT
END:VCALENDAR